Workbook

Sheet Timesheet
A1: CONSTRUCTION TIMESHEET - BY JOB AND COST CODE
A2: One row per person, per job, per stretch of work. Not a payroll record: it does not decide overtime, rates or deductions.
A3: Week starting | E3: Week totals
A4: Approved by | E4: Total hours | F4: =SUM(I7:I66) | G4: Overtime | H4: =SUM(J7:J66) | I4: Regular | J4: =SUM(L7:L66)
A6: Date | B6: Worker | C6: Job | D6: Cost code | E6: Work done | F6: Start | G6: Finish | H6: Break (h) | I6: Total hours | J6: Overtime hours | K6: Overtime category | L6: Regular hours | M6: Approved by | N6: Approved on | O6: Notes | P6: Check
I7: =IF(AND(F7<>"",G7<>""),ROUND((G7-F7)*24-N(H7),2),"") | L7: =IF(I7="","",I7-N(J7)) | P7: =IF(I7="","",IF(N(J7)>I7,"Overtime is more than the hours worked",IF(AND(N(J7)>0,K7=""),"Overtime needs a category",IF(M7="","Not yet approved",""))))
I8: =IF(AND(F8<>"",G8<>""),ROUND((G8-F8)*24-N(H8),2),"") | L8: =IF(I8="","",I8-N(J8)) | P8: =IF(I8="","",IF(N(J8)>I8,"Overtime is more than the hours worked",IF(AND(N(J8)>0,K8=""),"Overtime needs a category",IF(M8="","Not yet approved",""))))
I9: =IF(AND(F9<>"",G9<>""),ROUND((G9-F9)*24-N(H9),2),"") | L9: =IF(I9="","",I9-N(J9)) | P9: =IF(I9="","",IF(N(J9)>I9,"Overtime is more than the hours worked",IF(AND(N(J9)>0,K9=""),"Overtime needs a category",IF(M9="","Not yet approved",""))))
I10: =IF(AND(F10<>"",G10<>""),ROUND((G10-F10)*24-N(H10),2),"") | L10: =IF(I10="","",I10-N(J10)) | P10: =IF(I10="","",IF(N(J10)>I10,"Overtime is more than the hours worked",IF(AND(N(J10)>0,K10=""),"Overtime needs a category",IF(M10="","Not yet approved",""))))
I11: =IF(AND(F11<>"",G11<>""),ROUND((G11-F11)*24-N(H11),2),"") | L11: =IF(I11="","",I11-N(J11)) | P11: =IF(I11="","",IF(N(J11)>I11,"Overtime is more than the hours worked",IF(AND(N(J11)>0,K11=""),"Overtime needs a category",IF(M11="","Not yet approved",""))))
I12: =IF(AND(F12<>"",G12<>""),ROUND((G12-F12)*24-N(H12),2),"") | L12: =IF(I12="","",I12-N(J12)) | P12: =IF(I12="","",IF(N(J12)>I12,"Overtime is more than the hours worked",IF(AND(N(J12)>0,K12=""),"Overtime needs a category",IF(M12="","Not yet approved",""))))
I13: =IF(AND(F13<>"",G13<>""),ROUND((G13-F13)*24-N(H13),2),"") | L13: =IF(I13="","",I13-N(J13)) | P13: =IF(I13="","",IF(N(J13)>I13,"Overtime is more than the hours worked",IF(AND(N(J13)>0,K13=""),"Overtime needs a category",IF(M13="","Not yet approved",""))))
I14: =IF(AND(F14<>"",G14<>""),ROUND((G14-F14)*24-N(H14),2),"") | L14: =IF(I14="","",I14-N(J14)) | P14: =IF(I14="","",IF(N(J14)>I14,"Overtime is more than the hours worked",IF(AND(N(J14)>0,K14=""),"Overtime needs a category",IF(M14="","Not yet approved",""))))
I15: =IF(AND(F15<>"",G15<>""),ROUND((G15-F15)*24-N(H15),2),"") | L15: =IF(I15="","",I15-N(J15)) | P15: =IF(I15="","",IF(N(J15)>I15,"Overtime is more than the hours worked",IF(AND(N(J15)>0,K15=""),"Overtime needs a category",IF(M15="","Not yet approved",""))))
I16: =IF(AND(F16<>"",G16<>""),ROUND((G16-F16)*24-N(H16),2),"") | L16: =IF(I16="","",I16-N(J16)) | P16: =IF(I16="","",IF(N(J16)>I16,"Overtime is more than the hours worked",IF(AND(N(J16)>0,K16=""),"Overtime needs a category",IF(M16="","Not yet approved",""))))
I17: =IF(AND(F17<>"",G17<>""),ROUND((G17-F17)*24-N(H17),2),"") | L17: =IF(I17="","",I17-N(J17)) | P17: =IF(I17="","",IF(N(J17)>I17,"Overtime is more than the hours worked",IF(AND(N(J17)>0,K17=""),"Overtime needs a category",IF(M17="","Not yet approved",""))))
I18: =IF(AND(F18<>"",G18<>""),ROUND((G18-F18)*24-N(H18),2),"") | L18: =IF(I18="","",I18-N(J18)) | P18: =IF(I18="","",IF(N(J18)>I18,"Overtime is more than the hours worked",IF(AND(N(J18)>0,K18=""),"Overtime needs a category",IF(M18="","Not yet approved",""))))
... I66: =IF(AND(F66<>"",G66<>""),ROUND((G66-F66)*24-N(H66),2),"") | L66: =IF(I66="","",I66-N(J66)) | P66: =IF(I66="","",IF(N(J66)>I66,"Overtime is more than the hours worked",IF(AND(N(J66)>0,K66=""),"Overtime needs a category",IF(M66="","Not yet approved",""))))

Sheet Week summary
A1: WEEK SUMMARY - BY WORKER AND BY JOB AND COST CODE
A2: Formulas read the 'Timesheet' sheet. Type a worker, or a job and a cost code, and the hours fill in.
A4: Worker | B4: Total | C4: Overtime | D4: Regular
B5: =IF(A5="","",SUMIFS('Timesheet'!$I$7:$I$66,'Timesheet'!$B$7:$B$66,A5)) | C5: =IF(A5="","",SUMIFS('Timesheet'!$J$7:$J$66,'Timesheet'!$B$7:$B$66,A5)) | D5: =IF(A5="","",SUMIFS('Timesheet'!$L$7:$L$66,'Timesheet'!$B$7:$B$66,A5))
B6: =IF(A6="","",SUMIFS('Timesheet'!$I$7:$I$66,'Timesheet'!$B$7:$B$66,A6)) | C6: =IF(A6="","",SUMIFS('Timesheet'!$J$7:$J$66,'Timesheet'!$B$7:$B$66,A6)) | D6: =IF(A6="","",SUMIFS('Timesheet'!$L$7:$L$66,'Timesheet'!$B$7:$B$66,A6))
B7: =IF(A7="","",SUMIFS('Timesheet'!$I$7:$I$66,'Timesheet'!$B$7:$B$66,A7)) | C7: =IF(A7="","",SUMIFS('Timesheet'!$J$7:$J$66,'Timesheet'!$B$7:$B$66,A7)) | D7: =IF(A7="","",SUMIFS('Timesheet'!$L$7:$L$66,'Timesheet'!$B$7:$B$66,A7))
B8: =IF(A8="","",SUMIFS('Timesheet'!$I$7:$I$66,'Timesheet'!$B$7:$B$66,A8)) | C8: =IF(A8="","",SUMIFS('Timesheet'!$J$7:$J$66,'Timesheet'!$B$7:$B$66,A8)) | D8: =IF(A8="","",SUMIFS('Timesheet'!$L$7:$L$66,'Timesheet'!$B$7:$B$66,A8))
B9: =IF(A9="","",SUMIFS('Timesheet'!$I$7:$I$66,'Timesheet'!$B$7:$B$66,A9)) | C9: =IF(A9="","",SUMIFS('Timesheet'!$J$7:$J$66,'Timesheet'!$B$7:$B$66,A9)) | D9: =IF(A9="","",SUMIFS('Timesheet'!$L$7:$L$66,'Timesheet'!$B$7:$B$66,A9))
B10: =IF(A10="","",SUMIFS('Timesheet'!$I$7:$I$66,'Timesheet'!$B$7:$B$66,A10)) | C10: =IF(A10="","",SUMIFS('Timesheet'!$J$7:$J$66,'Timesheet'!$B$7:$B$66,A10)) | D10: =IF(A10="","",SUMIFS('Timesheet'!$L$7:$L$66,'Timesheet'!$B$7:$B$66,A10))
B11: =IF(A11="","",SUMIFS('Timesheet'!$I$7:$I$66,'Timesheet'!$B$7:$B$66,A11)) | C11: =IF(A11="","",SUMIFS('Timesheet'!$J$7:$J$66,'Timesheet'!$B$7:$B$66,A11)) | D11: =IF(A11="","",SUMIFS('Timesheet'!$L$7:$L$66,'Timesheet'!$B$7:$B$66,A11))
B12: =IF(A12="","",SUMIFS('Timesheet'!$I$7:$I$66,'Timesheet'!$B$7:$B$66,A12)) | C12: =IF(A12="","",SUMIFS('Timesheet'!$J$7:$J$66,'Timesheet'!$B$7:$B$66,A12)) | D12: =IF(A12="","",SUMIFS('Timesheet'!$L$7:$L$66,'Timesheet'!$B$7:$B$66,A12))
B13: =IF(A13="","",SUMIFS('Timesheet'!$I$7:$I$66,'Timesheet'!$B$7:$B$66,A13)) | C13: =IF(A13="","",SUMIFS('Timesheet'!$J$7:$J$66,'Timesheet'!$B$7:$B$66,A13)) | D13: =IF(A13="","",SUMIFS('Timesheet'!$L$7:$L$66,'Timesheet'!$B$7:$B$66,A13))
B14: =IF(A14="","",SUMIFS('Timesheet'!$I$7:$I$66,'Timesheet'!$B$7:$B$66,A14)) | C14: =IF(A14="","",SUMIFS('Timesheet'!$J$7:$J$66,'Timesheet'!$B$7:$B$66,A14)) | D14: =IF(A14="","",SUMIFS('Timesheet'!$L$7:$L$66,'Timesheet'!$B$7:$B$66,A14))
A17: Job | B17: Cost code | C17: Hours
C18: =IF(A18="","",SUMIFS('Timesheet'!$I$7:$I$66,'Timesheet'!$C$7:$C$66,A18,'Timesheet'!$D$7:$D$66,B18))
C19: =IF(A19="","",SUMIFS('Timesheet'!$I$7:$I$66,'Timesheet'!$C$7:$C$66,A19,'Timesheet'!$D$7:$D$66,B19))
C20: =IF(A20="","",SUMIFS('Timesheet'!$I$7:$I$66,'Timesheet'!$C$7:$C$66,A20,'Timesheet'!$D$7:$D$66,B20))
C21: =IF(A21="","",SUMIFS('Timesheet'!$I$7:$I$66,'Timesheet'!$C$7:$C$66,A21,'Timesheet'!$D$7:$D$66,B21))
C22: =IF(A22="","",SUMIFS('Timesheet'!$I$7:$I$66,'Timesheet'!$C$7:$C$66,A22,'Timesheet'!$D$7:$D$66,B22))
C23: =IF(A23="","",SUMIFS('Timesheet'!$I$7:$I$66,'Timesheet'!$C$7:$C$66,A23,'Timesheet'!$D$7:$D$66,B23))
C24: =IF(A24="","",SUMIFS('Timesheet'!$I$7:$I$66,'Timesheet'!$C$7:$C$66,A24,'Timesheet'!$D$7:$D$66,B24))
C25: =IF(A25="","",SUMIFS('Timesheet'!$I$7:$I$66,'Timesheet'!$C$7:$C$66,A25,'Timesheet'!$D$7:$D$66,B25))
C26: =IF(A26="","",SUMIFS('Timesheet'!$I$7:$I$66,'Timesheet'!$C$7:$C$66,A26,'Timesheet'!$D$7:$D$66,B26))
C27: =IF(A27="","",SUMIFS('Timesheet'!$I$7:$I$66,'Timesheet'!$C$7:$C$66,A27,'Timesheet'!$D$7:$D$66,B27))
C28: =IF(A28="","",SUMIFS('Timesheet'!$I$7:$I$66,'Timesheet'!$C$7:$C$66,A28,'Timesheet'!$D$7:$D$66,B28))
C29: =IF(A29="","",SUMIFS('Timesheet'!$I$7:$I$66,'Timesheet'!$C$7:$C$66,A29,'Timesheet'!$D$7:$D$66,B29))
... C32: =IF(A32="","",SUMIFS('Timesheet'!$I$7:$I$66,'Timesheet'!$C$7:$C$66,A32,'Timesheet'!$D$7:$D$66,B32))
A34: Not job time (no job entered) | C34: =SUMIFS('Timesheet'!$I$7:$I$66,'Timesheet'!$C$7:$C$66,"")

Sheet Example - week of 15 Mar
A1: CONSTRUCTION TIMESHEET - BY JOB AND COST CODE - WORKED EXAMPLE
A2: EXAMPLE ONLY - one fictional week for the crew on the daily log example.
A3: Week starting | B3: 46461 | E3: Week totals
A4: Approved by | B4: P. Grant, owner | E4: Total hours | F4: =SUM(I7:I17) | G4: Overtime | H4: =SUM(J7:J17) | I4: Regular | J4: =SUM(L7:L17)
A6: Date | B6: Worker | C6: Job | D6: Cost code | E6: Work done | F6: Start | G6: Finish | H6: Break (h) | I6: Total hours | J6: Overtime hours | K6: Overtime category | L6: Regular hours | M6: Approved by | N6: Approved on | O6: Notes | P6: Check
A7: 46461 | B7: D. Kaur | C7: Example: ensuite renovation, Edmonton AB (fictional) | D7: 100 | E7: Demolition, checks behind the shower, walk-through | F7: 0.3125 | G7: 0.6875 | H7: 0.5 | I7: =IF(AND(F7<>"",G7<>""),ROUND((G7-F7)*24-N(H7),2),"") | L7: =IF(I7="","",I7-N(J7)) | M7: PG | N7: 46465 | P7: =IF(I7="","",IF(N(J7)>I7,"Overtime is more than the hours worked",IF(AND(N(J7)>0,K7=""),"Overtime needs a category",IF(M7="","Not yet approved",""))))
A8: 46461 | B8: M. Leblanc | C8: Example: ensuite renovation, Edmonton AB (fictional) | D8: 100 | E8: Demolition and debris | F8: 0.3125 | G8: 0.66666667 | H8: 0.5 | I8: =IF(AND(F8<>"",G8<>""),ROUND((G8-F8)*24-N(H8),2),"") | L8: =IF(I8="","",I8-N(J8)) | M8: PG | N8: 46465 | P8: =IF(I8="","",IF(N(J8)>I8,"Overtime is more than the hours worked",IF(AND(N(J8)>0,K8=""),"Overtime needs a category",IF(M8="","Not yet approved",""))))
A9: 46462 | B9: D. Kaur | C9: Example: garage suite, St. Albert AB (fictional) | D9: 300 | E9: Frame suite walls | F9: 0.3125 | G9: 0.66666667 | H9: 0.5 | I9: =IF(AND(F9<>"",G9<>""),ROUND((G9-F9)*24-N(H9),2),"") | L9: =IF(I9="","",I9-N(J9)) | M9: PG | N9: 46465 | P9: =IF(I9="","",IF(N(J9)>I9,"Overtime is more than the hours worked",IF(AND(N(J9)>0,K9=""),"Overtime needs a category",IF(M9="","Not yet approved",""))))
A10: 46462 | B10: M. Leblanc | C10: Example: garage suite, St. Albert AB (fictional) | D10: 300 | E10: Frame suite walls | F10: 0.3125 | G10: 0.66666667 | H10: 0.5 | I10: =IF(AND(F10<>"",G10<>""),ROUND((G10-F10)*24-N(H10),2),"") | L10: =IF(I10="","",I10-N(J10)) | M10: PG | N10: 46465 | P10: =IF(I10="","",IF(N(J10)>I10,"Overtime is more than the hours worked",IF(AND(N(J10)>0,K10=""),"Overtime needs a category",IF(M10="","Not yet approved",""))))
A11: 46463 | B11: D. Kaur | C11: Example: ensuite renovation, Edmonton AB (fictional) | D11: 1100 | E11: Backer board on the shower walls | F11: 0.3125 | G11: 0.66666667 | H11: 0.5 | I11: =IF(AND(F11<>"",G11<>""),ROUND((G11-F11)*24-N(H11),2),"") | L11: =IF(I11="","",I11-N(J11)) | M11: PG | N11: 46465 | P11: =IF(I11="","",IF(N(J11)>I11,"Overtime is more than the hours worked",IF(AND(N(J11)>0,K11=""),"Overtime needs a category",IF(M11="","Not yet approved",""))))
A12: 46463 | B12: M. Leblanc | C12: Example: garage suite, St. Albert AB (fictional) | D12: 300 | E12: Frame suite walls and header over the garage door | F12: 0.3125 | G12: 0.72916667 | H12: 0.5 | I12: =IF(AND(F12<>"",G12<>""),ROUND((G12-F12)*24-N(H12),2),"") | J12: 1.5 | K12: Over the daily limit | L12: =IF(I12="","",I12-N(J12)) | M12: PG | N12: 46465 | O12: Stayed to finish the header before the lumber delivery | P12: =IF(I12="","",IF(N(J12)>I12,"Overtime is more than the hours worked",IF(AND(N(J12)>0,K12=""),"Overtime needs a category",IF(M12="","Not yet approved",""))))
A13: 46464 | B13: D. Kaur | C13: Example: ensuite renovation, Edmonton AB (fictional) | D13: 1100 | E13: Backer seams and floor prep | F13: 0.3125 | G13: 0.5 | H13: 0 | I13: =IF(AND(F13<>"",G13<>""),ROUND((G13-F13)*24-N(H13),2),"") | L13: =IF(I13="","",I13-N(J13)) | M13: PG | N13: 46465 | P13: =IF(I13="","",IF(N(J13)>I13,"Overtime is more than the hours worked",IF(AND(N(J13)>0,K13=""),"Overtime needs a category",IF(M13="","Not yet approved",""))))
A14: 46464 | B14: D. Kaur | C14: Example: garage suite, St. Albert AB (fictional) | D14: 900 | E14: Insulation and vapour barrier | F14: 0.52083333 | G14: 0.66666667 | H14: 0 | I14: =IF(AND(F14<>"",G14<>""),ROUND((G14-F14)*24-N(H14),2),"") | L14: =IF(I14="","",I14-N(J14)) | M14: PG | N14: 46465 | O14: Drive between jobs not counted | P14: =IF(I14="","",IF(N(J14)>I14,"Overtime is more than the hours worked",IF(AND(N(J14)>0,K14=""),"Overtime needs a category",IF(M14="","Not yet approved",""))))
A15: 46464 | B15: M. Leblanc | C15: Example: garage suite, St. Albert AB (fictional) | D15: 900 | E15: Insulation and vapour barrier | F15: 0.3125 | G15: 0.66666667 | H15: 0.5 | I15: =IF(AND(F15<>"",G15<>""),ROUND((G15-F15)*24-N(H15),2),"") | L15: =IF(I15="","",I15-N(J15)) | M15: PG | N15: 46465 | P15: =IF(I15="","",IF(N(J15)>I15,"Overtime is more than the hours worked",IF(AND(N(J15)>0,K15=""),"Overtime needs a category",IF(M15="","Not yet approved",""))))
A16: 46465 | B16: D. Kaur | C16: Example: garage suite, St. Albert AB (fictional) | D16: 900 | E16: Insulation and vapour barrier | F16: 0.3125 | G16: 0.66666667 | H16: 0.5 | I16: =IF(AND(F16<>"",G16<>""),ROUND((G16-F16)*24-N(H16),2),"") | L16: =IF(I16="","",I16-N(J16)) | M16: PG | N16: 46465 | P16: =IF(I16="","",IF(N(J16)>I16,"Overtime is more than the hours worked",IF(AND(N(J16)>0,K16=""),"Overtime needs a category",IF(M16="","Not yet approved",""))))
A17: 46465 | B17: M. Leblanc | E17: Shop: tool maintenance, material pickup | F17: 0.3125 | G17: 0.47916667 | H17: 0 | I17: =IF(AND(F17<>"",G17<>""),ROUND((G17-F17)*24-N(H17),2),"") | L17: =IF(I17="","",I17-N(J17)) | O17: Not job time; awaiting approval | P17: =IF(I17="","",IF(N(J17)>I17,"Overtime is more than the hours worked",IF(AND(N(J17)>0,K17=""),"Overtime needs a category",IF(M17="","Not yet approved",""))))

Sheet Example - summary
A1: WEEK SUMMARY - BY WORKER AND BY JOB AND COST CODE
A2: Formulas read the 'Example - week of 15 Mar' sheet. Type a worker, or a job and a cost code, and the hours fill in.
A4: Worker | B4: Total | C4: Overtime | D4: Regular
A5: D. Kaur | B5: =IF(A5="","",SUMIFS('Example - week of 15 Mar'!$I$7:$I$17,'Example - week of 15 Mar'!$B$7:$B$17,A5)) | C5: =IF(A5="","",SUMIFS('Example - week of 15 Mar'!$J$7:$J$17,'Example - week of 15 Mar'!$B$7:$B$17,A5)) | D5: =IF(A5="","",SUMIFS('Example - week of 15 Mar'!$L$7:$L$17,'Example - week of 15 Mar'!$B$7:$B$17,A5))
A6: M. Leblanc | B6: =IF(A6="","",SUMIFS('Example - week of 15 Mar'!$I$7:$I$17,'Example - week of 15 Mar'!$B$7:$B$17,A6)) | C6: =IF(A6="","",SUMIFS('Example - week of 15 Mar'!$J$7:$J$17,'Example - week of 15 Mar'!$B$7:$B$17,A6)) | D6: =IF(A6="","",SUMIFS('Example - week of 15 Mar'!$L$7:$L$17,'Example - week of 15 Mar'!$B$7:$B$17,A6))
B7: =IF(A7="","",SUMIFS('Example - week of 15 Mar'!$I$7:$I$17,'Example - week of 15 Mar'!$B$7:$B$17,A7)) | C7: =IF(A7="","",SUMIFS('Example - week of 15 Mar'!$J$7:$J$17,'Example - week of 15 Mar'!$B$7:$B$17,A7)) | D7: =IF(A7="","",SUMIFS('Example - week of 15 Mar'!$L$7:$L$17,'Example - week of 15 Mar'!$B$7:$B$17,A7))
B8: =IF(A8="","",SUMIFS('Example - week of 15 Mar'!$I$7:$I$17,'Example - week of 15 Mar'!$B$7:$B$17,A8)) | C8: =IF(A8="","",SUMIFS('Example - week of 15 Mar'!$J$7:$J$17,'Example - week of 15 Mar'!$B$7:$B$17,A8)) | D8: =IF(A8="","",SUMIFS('Example - week of 15 Mar'!$L$7:$L$17,'Example - week of 15 Mar'!$B$7:$B$17,A8))
B9: =IF(A9="","",SUMIFS('Example - week of 15 Mar'!$I$7:$I$17,'Example - week of 15 Mar'!$B$7:$B$17,A9)) | C9: =IF(A9="","",SUMIFS('Example - week of 15 Mar'!$J$7:$J$17,'Example - week of 15 Mar'!$B$7:$B$17,A9)) | D9: =IF(A9="","",SUMIFS('Example - week of 15 Mar'!$L$7:$L$17,'Example - week of 15 Mar'!$B$7:$B$17,A9))
B10: =IF(A10="","",SUMIFS('Example - week of 15 Mar'!$I$7:$I$17,'Example - week of 15 Mar'!$B$7:$B$17,A10)) | C10: =IF(A10="","",SUMIFS('Example - week of 15 Mar'!$J$7:$J$17,'Example - week of 15 Mar'!$B$7:$B$17,A10)) | D10: =IF(A10="","",SUMIFS('Example - week of 15 Mar'!$L$7:$L$17,'Example - week of 15 Mar'!$B$7:$B$17,A10))
B11: =IF(A11="","",SUMIFS('Example - week of 15 Mar'!$I$7:$I$17,'Example - week of 15 Mar'!$B$7:$B$17,A11)) | C11: =IF(A11="","",SUMIFS('Example - week of 15 Mar'!$J$7:$J$17,'Example - week of 15 Mar'!$B$7:$B$17,A11)) | D11: =IF(A11="","",SUMIFS('Example - week of 15 Mar'!$L$7:$L$17,'Example - week of 15 Mar'!$B$7:$B$17,A11))
B12: =IF(A12="","",SUMIFS('Example - week of 15 Mar'!$I$7:$I$17,'Example - week of 15 Mar'!$B$7:$B$17,A12)) | C12: =IF(A12="","",SUMIFS('Example - week of 15 Mar'!$J$7:$J$17,'Example - week of 15 Mar'!$B$7:$B$17,A12)) | D12: =IF(A12="","",SUMIFS('Example - week of 15 Mar'!$L$7:$L$17,'Example - week of 15 Mar'!$B$7:$B$17,A12))
B13: =IF(A13="","",SUMIFS('Example - week of 15 Mar'!$I$7:$I$17,'Example - week of 15 Mar'!$B$7:$B$17,A13)) | C13: =IF(A13="","",SUMIFS('Example - week of 15 Mar'!$J$7:$J$17,'Example - week of 15 Mar'!$B$7:$B$17,A13)) | D13: =IF(A13="","",SUMIFS('Example - week of 15 Mar'!$L$7:$L$17,'Example - week of 15 Mar'!$B$7:$B$17,A13))
B14: =IF(A14="","",SUMIFS('Example - week of 15 Mar'!$I$7:$I$17,'Example - week of 15 Mar'!$B$7:$B$17,A14)) | C14: =IF(A14="","",SUMIFS('Example - week of 15 Mar'!$J$7:$J$17,'Example - week of 15 Mar'!$B$7:$B$17,A14)) | D14: =IF(A14="","",SUMIFS('Example - week of 15 Mar'!$L$7:$L$17,'Example - week of 15 Mar'!$B$7:$B$17,A14))
A17: Job | B17: Cost code | C17: Hours
A18: Example: ensuite renovation, Edmonton AB (fictional) | B18: 100 | C18: =IF(A18="","",SUMIFS('Example - week of 15 Mar'!$I$7:$I$17,'Example - week of 15 Mar'!$C$7:$C$17,A18,'Example - week of 15 Mar'!$D$7:$D$17,B18))
A19: Example: ensuite renovation, Edmonton AB (fictional) | B19: 1100 | C19: =IF(A19="","",SUMIFS('Example - week of 15 Mar'!$I$7:$I$17,'Example - week of 15 Mar'!$C$7:$C$17,A19,'Example - week of 15 Mar'!$D$7:$D$17,B19))
A20: Example: garage suite, St. Albert AB (fictional) | B20: 300 | C20: =IF(A20="","",SUMIFS('Example - week of 15 Mar'!$I$7:$I$17,'Example - week of 15 Mar'!$C$7:$C$17,A20,'Example - week of 15 Mar'!$D$7:$D$17,B20))
A21: Example: garage suite, St. Albert AB (fictional) | B21: 900 | C21: =IF(A21="","",SUMIFS('Example - week of 15 Mar'!$I$7:$I$17,'Example - week of 15 Mar'!$C$7:$C$17,A21,'Example - week of 15 Mar'!$D$7:$D$17,B21))
C22: =IF(A22="","",SUMIFS('Example - week of 15 Mar'!$I$7:$I$17,'Example - week of 15 Mar'!$C$7:$C$17,A22,'Example - week of 15 Mar'!$D$7:$D$17,B22))
C23: =IF(A23="","",SUMIFS('Example - week of 15 Mar'!$I$7:$I$17,'Example - week of 15 Mar'!$C$7:$C$17,A23,'Example - week of 15 Mar'!$D$7:$D$17,B23))
C24: =IF(A24="","",SUMIFS('Example - week of 15 Mar'!$I$7:$I$17,'Example - week of 15 Mar'!$C$7:$C$17,A24,'Example - week of 15 Mar'!$D$7:$D$17,B24))
C25: =IF(A25="","",SUMIFS('Example - week of 15 Mar'!$I$7:$I$17,'Example - week of 15 Mar'!$C$7:$C$17,A25,'Example - week of 15 Mar'!$D$7:$D$17,B25))
C26: =IF(A26="","",SUMIFS('Example - week of 15 Mar'!$I$7:$I$17,'Example - week of 15 Mar'!$C$7:$C$17,A26,'Example - week of 15 Mar'!$D$7:$D$17,B26))
C27: =IF(A27="","",SUMIFS('Example - week of 15 Mar'!$I$7:$I$17,'Example - week of 15 Mar'!$C$7:$C$17,A27,'Example - week of 15 Mar'!$D$7:$D$17,B27))
C28: =IF(A28="","",SUMIFS('Example - week of 15 Mar'!$I$7:$I$17,'Example - week of 15 Mar'!$C$7:$C$17,A28,'Example - week of 15 Mar'!$D$7:$D$17,B28))
C29: =IF(A29="","",SUMIFS('Example - week of 15 Mar'!$I$7:$I$17,'Example - week of 15 Mar'!$C$7:$C$17,A29,'Example - week of 15 Mar'!$D$7:$D$17,B29))
C30: =IF(A30="","",SUMIFS('Example - week of 15 Mar'!$I$7:$I$17,'Example - week of 15 Mar'!$C$7:$C$17,A30,'Example - week of 15 Mar'!$D$7:$D$17,B30))
C31: =IF(A31="","",SUMIFS('Example - week of 15 Mar'!$I$7:$I$17,'Example - week of 15 Mar'!$C$7:$C$17,A31,'Example - week of 15 Mar'!$D$7:$D$17,B31))
C32: =IF(A32="","",SUMIFS('Example - week of 15 Mar'!$I$7:$I$17,'Example - week of 15 Mar'!$C$7:$C$17,A32,'Example - week of 15 Mar'!$D$7:$D$17,B32))
A34: Not job time (no job entered) | C34: =SUMIFS('Example - week of 15 Mar'!$I$7:$I$17,'Example - week of 15 Mar'!$C$7:$C$17,"")

Sheet Cost codes
A1: Code | B1: Category
A2: 100 | B2: Site prep & demolition
A3: 200 | B3: Foundation & concrete
A4: 300 | B4: Framing & structure
A5: 400 | B5: Roofing & exterior
A6: 500 | B6: Windows & doors
A7: 600 | B7: Plumbing
A8: 700 | B8: Electrical
A9: 800 | B9: HVAC
A10: 900 | B10: Insulation & drywall
A11: 1000 | B11: Finishes & painting
A12: 1100 | B12: Flooring & tile
... A16: 1500 | B16: Contingency

Sheet How to use
A1: Construction timesheet by job and cost code
A3: 1. One row per person, per job, per stretch of work. Someone who moves jobs at lunch gets two rows.
A4: 2. Enter start, finish and unpaid break. Total hours is finish less start less the break.
A5: 3. Pick the cost code from the list (the same codes as our cost code template), so hours add up by
A6: job and code on the summary sheet. Leave the job blank for shop, travel or other non-job time.
A7: 4. Overtime: enter the hours you are treating as overtime and pick a category. The sheet does not
A8: work overtime out, because the threshold and the rate are set by employment standards where the
A9: work is done and by your agreements. Regular hours are total less overtime.
A10: 5. The supervisor initials and dates each row once checked. The Check column flags overtime with no
A11: category, overtime above the hours worked, and rows not yet approved.
A13: This is a record of hours, not payroll. It does not apply rates, deductions, vacation pay or
A14: remittances, and completing it does not make a pay period compliant. Ask your payroll provider or
A15: accountant what your records must contain.
